BEGIN:VCALENDAR
VERSION:2.0
PRODID:-//Albany All Stars Roller Derby - ECPv6.10.2//NONSGML v1.0//EN
CALSCALE:GREGORIAN
METHOD:PUBLISH
X-WR-CALNAME:Albany All Stars Roller Derby
X-ORIGINAL-URL:https://albanyallstars.com
X-WR-CALDESC:Events for Albany All Stars Roller Derby
REFRESH-INTERVAL;VALUE=DURATION:PT1H
X-Robots-Tag:noindex
X-PUBLISHED-TTL:PT1H
BEGIN:VTIMEZONE
TZID:America/New_York
BEGIN:DAYLIGHT
TZOFFSETFROM:-0500
TZOFFSETTO:-0400
TZNAME:EDT
DTSTART:20260308T070000
END:DAYLIGHT
BEGIN:STANDARD
TZOFFSETFROM:-0400
TZOFFSETTO:-0500
TZNAME:EST
DTSTART:20261101T060000
END:STANDARD
END:VTIMEZONE
BEGIN:VEVENT
DTSTART;TZID=America/New_York:20260502T180000
DTEND;TZID=America/New_York:20260502T210000
DTSTAMP:20260419T214757
CREATED:20260217T165137Z
LAST-MODIFIED:20260414T134926Z
UID:2060-1777744800-1777755600@albanyallstars.com
SUMMARY:Albany All Stars Season Opener
DESCRIPTION: IT’S FINALLY HERE! Our 2026 Home Season Opener is 5/2/26!\nJoin the Albany All Stars as we take on Salt City (Syracuse\, NY) in an action-packed night of roller derby!\n \nDoors open at 6 pm\, and the first whistle is at 7 pm. There will be concessions and drinks for purchase\, raffle prizes\, and our signature star toss\, plus local vendors and music! A portion of the bout proceeds will be going to our featured charity for the evening. Tickets are just $15 at the door!\n \n\n After Party: The party doesn’t stop after the bout is over. Come join us in celebrating after the bout at McGeary’s Irish Pub (4 Clinton Square\, Albany\, NY)\n\n \nShare and RSVP on Facebook
URL:https://albanyallstars.com/event/albany-all-stars-season-opener-2026/
LOCATION:Washington Avenue Armory\, 195 Washington Ave\, Albany\, NY\, 12210\, United States
END:VEVENT
BEGIN:VEVENT
DTSTART;TZID=America/New_York:20260530T180000
DTEND;TZID=America/New_York:20260530T210000
DTSTAMP:20260419T214757
CREATED:20260217T170803Z
LAST-MODIFIED:20260217T170803Z
UID:2066-1780164000-1780174800@albanyallstars.com
SUMMARY:Albany All Stars Home Bout
DESCRIPTION:Saturday\, May 30th. \nDoors open at 6 pm\, and the first whistle is at 7 pm. There will be concessions and drinks for purchase\, raffle prizes and our signature star toss\, plus local vendors and music! A portion of the bout proceeds will be going to our featured charity for the evening. Tickets are just $15 at the door!
URL:https://albanyallstars.com/event/albany-all-stars-home-bout/
LOCATION:Washington Avenue Armory\, 195 Washington Ave\, Albany\, NY\, 12210\, United States
END:VEVENT
BEGIN:VEVENT
DTSTART;TZID=America/New_York:20260627T180000
DTEND;TZID=America/New_York:20260627T210000
DTSTAMP:20260419T214757
CREATED:20260217T171013Z
LAST-MODIFIED:20260217T171013Z
UID:2068-1782583200-1782594000@albanyallstars.com
SUMMARY:Albany All Stars Home Bout
DESCRIPTION:Saturday\, June 27th. \nDoors open at 6 pm\, and the first whistle is at 7 pm. There will be concessions and drinks for purchase\, raffle prizes and our signature star toss\, plus local vendors and music! A portion of the bout proceeds will be going to our featured charity for the evening. Tickets are just $15 at the door!
URL:https://albanyallstars.com/event/albany-all-stars-home-bout-2/
LOCATION:Washington Avenue Armory\, 195 Washington Ave\, Albany\, NY\, 12210\, United States
END:VEVENT
BEGIN:VEVENT
DTSTART;TZID=America/New_York:20260919T180000
DTEND;TZID=America/New_York:20260919T210000
DTSTAMP:20260419T214757
CREATED:20260217T171148Z
LAST-MODIFIED:20260217T171527Z
UID:2070-1789840800-1789851600@albanyallstars.com
SUMMARY:Albany All Stars Home Bout
DESCRIPTION:Saturday\, September 19th. \nDoors open at 6 pm\, and the first whistle is at 7 pm. There will be concessions and drinks for purchase\, raffle prizes and our signature star toss\, plus local vendors and music! A portion of the bout proceeds will be going to our featured charity for the evening. Tickets are just $15 at the door!
URL:https://albanyallstars.com/event/albany-all-stars-home-bout-3/
LOCATION:Washington Avenue Armory\, 195 Washington Ave\, Albany\, NY\, 12210\, United States
END:VEVENT
BEGIN:VEVENT
DTSTART;TZID=America/New_York:20261017T180000
DTEND;TZID=America/New_York:20261017T210000
DTSTAMP:20260419T214757
CREATED:20260217T171308Z
LAST-MODIFIED:20260217T171308Z
UID:2072-1792260000-1792270800@albanyallstars.com
SUMMARY:Albany All Stars Home Bout
DESCRIPTION:Saturday\, October 17th. \nDoors open at 6 pm\, and the first whistle is at 7 pm. There will be concessions and drinks for purchase\, raffle prizes and our signature star toss\, plus local vendors and music! A portion of the bout proceeds will be going to our featured charity for the evening. Tickets are just $15 at the door!
URL:https://albanyallstars.com/event/albany-all-stars-home-bout-4/
LOCATION:Washington Avenue Armory\, 195 Washington Ave\, Albany\, NY\, 12210\, United States
END:VEVENT
BEGIN:VEVENT
DTSTART;TZID=America/New_York:20261107T180000
DTEND;TZID=America/New_York:20261107T210000
DTSTAMP:20260419T214757
CREATED:20260217T171414Z
LAST-MODIFIED:20260217T171414Z
UID:2074-1794074400-1794085200@albanyallstars.com
SUMMARY:Albany All Stars Home Bout
DESCRIPTION:Saturday\, November 7th. \nDoors open at 6 pm\, and the first whistle is at 7 pm. There will be concessions and drinks for purchase\, raffle prizes and our signature star toss\, plus local vendors and music! A portion of the bout proceeds will be going to our featured charity for the evening. Tickets are just $15 at the door!
URL:https://albanyallstars.com/event/albany-all-stars-home-bout-5/
LOCATION:Washington Avenue Armory\, 195 Washington Ave\, Albany\, NY\, 12210\, United States
END:VEVENT
END:VCALENDAR